BEGIN:VCALENDAR
VERSION:2.0
PRODID:icalendar-ruby
CALSCALE:GREGORIAN
METHOD:PUBLISH
BEGIN:VEVENT
DTSTAMP:20260425T104152Z
UID:5-410025@emmanuelbible.tithelysetup2.com
DTSTART:20260906T170000Z
DTEND:20260906T180000Z
CLASS:PUBLIC
CREATED:20260423T122521
DESCRIPTION:Sunday Worship
LAST-MODIFIED:20260423T122521
LOCATION:
SUMMARY:Sunday Worship
URL;VALUE=URI:https://emmanuelbible.tithelysetup2.com/events/sunday-worship
 /2026-09-06
END:VEVENT
END:VCALENDAR
